BEGIN:VCALENDAR
VERSION:2.0
PRODID:-//Cresco - ECPv6.2.2.1//NONSGML v1.0//EN
CALSCALE:GREGORIAN
METHOD:PUBLISH
X-WR-CALNAME:Cresco
X-ORIGINAL-URL:https://www.crescosrl.net
X-WR-CALDESC:Eventi per Cresco
REFRESH-INTERVAL;VALUE=DURATION:PT1H
X-Robots-Tag:noindex
X-PUBLISHED-TTL:PT1H
BEGIN:VTIMEZONE
TZID:Europe/Rome
BEGIN:DAYLIGHT
TZOFFSETFROM:+0100
TZOFFSETTO:+0200
TZNAME:CEST
DTSTART:20250330T010000
END:DAYLIGHT
BEGIN:STANDARD
TZOFFSETFROM:+0200
TZOFFSETTO:+0100
TZNAME:CET
DTSTART:20251026T010000
END:STANDARD
BEGIN:DAYLIGHT
TZOFFSETFROM:+0100
TZOFFSETTO:+0200
TZNAME:CEST
DTSTART:20260329T010000
END:DAYLIGHT
BEGIN:STANDARD
TZOFFSETFROM:+0200
TZOFFSETTO:+0100
TZNAME:CET
DTSTART:20261025T010000
END:STANDARD
END:VTIMEZONE
BEGIN:VEVENT
DTSTART;VALUE=DATE:20251013
DTEND;VALUE=DATE:20251024
DTSTAMP:20260423T125502
CREATED:20241018T104323Z
LAST-MODIFIED:20250924T154218Z
UID:11792-1760313600-1761263999@www.crescosrl.net
SUMMARY:Corso di Formazione PRIMO SOCCORSO - Gruppo B-C - 12 Ore
DESCRIPTION:Il Corso di Primo Soccorso Gruppi B–C fornisce ai lavoratori designati le conoscenze teoriche e pratiche indispensabili per affrontare situazioni di emergenza in azienda. Soddisfa l’obbligo di aggiornamento previsto dal D.M. 388/2003. \nIl corso è valido per le aziende appartenenti al gruppo B-C individuate dalla normativa vigente. \nDestinatari: Addetti alla squadra di primo soccorso per aziende di gruppo B-C. \nIl corso si svolgerà nei giorni 13 e 23 Ottobre 2025. (8 ore Videoconferenza + 4 ore Pratica).  \n  \n>SCOPRI IL PROGRAMMA E ISCRIVITI SUBITO ! ⇓ 
URL:https://www.crescosrl.net/evento/corso-di-aggiornamento-primo-soccorso-gruppo-a/
LOCATION:Sora (FR)\, Via Tofaro\, 42\, Sora\, FR\, 03039\, Italia
CATEGORIES:Corso di formazione
ATTACH;FMTTYPE=image/png:https://www.crescosrl.net/wp-content/uploads/2021/02/PRIMO-SOCCORSO.png
ORGANIZER;CN="Cresco Formazione e Consulenza Srl":MAILTO:segreteria@crescosrl.net
END:VEVENT
BEGIN:VEVENT
DTSTART;TZID=Europe/Rome:20251023T083000
DTEND;TZID=Europe/Rome:20251023T123000
DTSTAMP:20260423T125502
CREATED:20241018T104223Z
LAST-MODIFIED:20250925T083845Z
UID:8738-1761208200-1761222600@www.crescosrl.net
SUMMARY:Corso di Aggiornamento PRIMO SOCCORSO - Gruppo B-C - 4 ore
DESCRIPTION:Il corso è destinato agli Addetti al servizio di primo soccorso aziendale. Soddisfa l’obbligo di aggiornamento previsto dal D.M. 388/2003 e va frequentato entro tre anni dall’ultimo corso di aggiornamento effettuato. \nIl corso è valido per le aziende appartenenti ai gruppi B e C individuati dalla normativa vigente. \nDestinatari: Addetti alla squadra di primo soccorso per aziende di gruppo B-C. \nIl corso si svolgerà nella mattinata di Giovedì 23 Ottobre 2025 dalle 8:30  alle 12:30\, presso l’ Aula Formativa Cresco Srl\, a Sora (FR). \n  \n>SCOPRI IL PROGRAMMA E ISCRIVITI SUBITO ! ⇓ 
URL:https://www.crescosrl.net/evento/corso-di-aggiornamento-primo-soccorso-gruppo-b-c/
LOCATION:Sora (FR)\, Via Tofaro\, 42\, Sora\, FR\, 03039\, Italia
CATEGORIES:Corso di aggiornamento
ATTACH;FMTTYPE=image/png:https://www.crescosrl.net/wp-content/uploads/2019/09/First-Aid.png
ORGANIZER;CN="Cresco Formazione e Consulenza Srl":MAILTO:segreteria@crescosrl.net
END:VEVENT
BEGIN:VEVENT
DTSTART;TZID=Europe/Rome:20260120T090000
DTEND;TZID=Europe/Rome:20260120T180000
DTSTAMP:20260423T125502
CREATED:20250627T084946Z
LAST-MODIFIED:20251229T164335Z
UID:12355-1768899600-1768932000@www.crescosrl.net
SUMMARY:Corso di Aggiornamento RLS – 4/8 ore
DESCRIPTION:Il corso di aggiornamento per Rappresentante dei Lavoratori per la Sicurezza (RLS)\, della durata di 4 ore ( per aziende che non superano i 50 lavoratori)  e 8 ore ( per aziende con più di 50 lavoratori)\, è organizzato in conformità all’articolo 37 del D.Lgs. 81/2008. \nCon l’entrata in vigore del nuovo Accordo Stato-Regioni del 17 aprile 2025\, il corso è stato aggiornato per rispondere ai più recenti standard normativi in materia di formazione. L’obiettivo è garantire ai RLS le competenze necessarie per svolgere efficacemente il proprio ruolo\, collaborando attivamente ai processi di prevenzione e protezione nei luoghi di lavoro\, nonché affrontando le nuove tematiche previste dalla normativa vigente. \nConsulta qui il programma
URL:https://www.crescosrl.net/evento/corso-di-aggiornamento-rls-4-8-ore/
LOCATION:Sora (FR)\, Via Tofaro\, 42\, Sora\, FR\, 03039\, Italia
CATEGORIES:Corso di aggiornamento
ATTACH;FMTTYPE=image/png:https://www.crescosrl.net/wp-content/uploads/2021/11/formazione_agg-rls.png
ORGANIZER;CN="Cresco Formazione e Consulenza Srl":MAILTO:segreteria@crescosrl.net
END:VEVENT
BEGIN:VEVENT
DTSTART;VALUE=DATE:20260217
DTEND;VALUE=DATE:20260220
DTSTAMP:20260423T125502
CREATED:20250411T141548Z
LAST-MODIFIED:20260211T135332Z
UID:12213-1771286400-1771545599@www.crescosrl.net
SUMMARY:CORSO DI AGGIORNAMENTO TCA "Il controllo del rumore negli impianti meccanici"
DESCRIPTION:Il corso “Il controllo del rumore negli impianti meccanici” avrà una durata di 10 ore e si svolgerà in modalità AULA VIRTUALE (FAD SINCRONA) \, i giorni  17-19 Febbraio 2026\, dalle ore 13:00 ore 18:00. \nIl corso è rivolto principalmente ai professionisti tecnici acustici. Durante le lezioni saranno trattate le principali problematiche di rumore connesse con gli impianti meccanici\, con riferimento agli standard di qualità\, ai limiti di legge e agli interventi tecnici per la riduzione delle emissioni sonore. \n\nLa frequentazione con profitto è valevole come 10 ore di formazione per TCA con riconoscimento CFP per gli ingegneri. \n\nClicca qui per consultare il programma e per iscriverti
URL:https://www.crescosrl.net/evento/corso-di-aggiornamento-tca-rumore-impianti-meccanici/
LOCATION:Sora (FR)\, Via Tofaro\, 42\, Sora\, FR\, 03039\, Italia
CATEGORIES:Corso di aggiornamento
ATTACH;FMTTYPE=image/png:https://www.crescosrl.net/wp-content/uploads/2021/02/rumore-impianti-meccanici.png
ORGANIZER;CN="Cresco Formazione e Consulenza Srl":MAILTO:segreteria@crescosrl.net
END:VEVENT
BEGIN:VEVENT
DTSTART;TZID=Europe/Rome:20260324T130000
DTEND;TZID=Europe/Rome:20260324T180000
DTSTAMP:20260423T125502
CREATED:20260215T175340Z
LAST-MODIFIED:20260215T175340Z
UID:13276-1774357200-1774375200@www.crescosrl.net
SUMMARY:CORSO DI AGGIORNAMENTO TCA "Aggiornamenti tecnici sulla valutazione del rischio rumore negli ambienti di lavoro"
DESCRIPTION:Il 26 maggio 2025 ha segnato una data importante per la sicurezza e la salute nei luoghi di lavoro e\, in particolare\, per la valutazione e gestione del rischio rumore.  In quella data è stata pubblicata la nuova edizione della norma ISO 9612:2025\, “Acustica – Determinazione dell’esposizione al rumore professionale – Metodologia”. La ISO 9612 è un riferimento fondamentale per la misurazione e il calcolo dell’esposizione dei lavoratori al rumore negli ambienti di lavoro e durante il seminario tratteremo con esempi pratici le principali metodologie di misura e valutazione dell’esposizione professionale al rumore. \nDocenti esperti: \nDott. Pietro Nataletti – Fisico esperto di rumore e vibrazioni\, Dirigente di ricerca\, Responsabile del Laboratorio Rischio agenti fisici del Dipartimento di Medicina\, Epidemiologia\, Igiene del Lavoro e Ambientale dell’Inail\, Responsabile scientifico del Portale Agenti Fisici Inail-Regioni\, Tecnico Competente in Acustica iscritto all’ENTECA \nDott. Diego Annesi – Tecnico di ricerca presso il Centro Ricerche INAIL – Settore Acustica e Vibrazioni\, Tecnico Competente in Acustica iscritto all’ENTECA \nIl corso avrà una durata di 5 ore e si svolgerà in modalità AULA VIRTUALE (FAD SINCRONA) \, il giorno 24 Marzo 2026\, dalle ore 13:00 ore 18:00. \nLa frequentazione con profitto è valevole come 5 ore di formazione per TCA. \nClicca qui per consultare il programma e per iscriverti
URL:https://www.crescosrl.net/evento/corso-di-aggiornamento-tca-aggiornamenti-tecnici-sulla-valutazione-del-rischio-rumore-negli-ambienti-di-lavoro/
LOCATION:Sora (FR)\, Via Tofaro\, 42\, Sora\, FR\, 03039\, Italia
CATEGORIES:Corso di aggiornamento
ATTACH;FMTTYPE=image/png:https://www.crescosrl.net/wp-content/uploads/2021/02/Rumore-negli-ambienti-di-lavoro.png
ORGANIZER;CN="Cresco Formazione e Consulenza Srl":MAILTO:segreteria@crescosrl.net
END:VEVENT
BEGIN:VEVENT
DTSTART;TZID=Europe/Rome:20260528T130000
DTEND;TZID=Europe/Rome:20260528T180000
DTSTAMP:20260423T125502
CREATED:20260331T091244Z
LAST-MODIFIED:20260422T115500Z
UID:13389-1779973200-1779991200@www.crescosrl.net
SUMMARY:CORSO DI AGGIORNAMENTO TCA "La progettazione del comfort acustico secondo i recenti aggiornamenti al decreto CAM"
DESCRIPTION:Il corso “La progettazione del comfort acustico secondo i recenti aggiornamenti al decreto CAM” (Conforme al D.Lgs. 17/02/2017 n. 42 All. 1 punto 2 e alla Det. Regione Lazio 21/09/2018 n. G11715) avrà una durata di 5 ore e si svolgerà in modalità fad – aula virtuale\, Giovedì 28 Maggio 2026 \, dalle ore 13:00 ore 18:00. \nI partecipanti a conclusione del corso avranno conoscenza dei principali standard acustici da rispettare per il comfort\, nonché dei parametri da valutare e come misurarli e gli sarà fornita una solida base per affrontare un progetto acustico che garantisca il comfort\, in funzione della destinazione d’uso degli ambienti. \nLa frequentazione con profitto è valevole come 5 ore di formazione per TCA.\n \nClicca qui per consultare il programma e per iscriverti!
URL:https://www.crescosrl.net/evento/corso-di-aggiornamento-tca-la-progettazione-del-comfort-acustico-secondo-i-recenti-aggiornamenti-al-decreto-cam/
LOCATION:Sora (FR)\, Via Tofaro\, 42\, Sora\, FR\, 03039\, Italia
CATEGORIES:Corso di aggiornamento
ATTACH;FMTTYPE=image/png:https://www.crescosrl.net/wp-content/uploads/2022/01/23_FEB.png
ORGANIZER;CN="Cresco Formazione e Consulenza Srl":MAILTO:segreteria@crescosrl.net
END:VEVENT
END:VCALENDAR